{
 "version": 1.0,
 "tileBundlesPath": "./tile",
 "storageInfo": {
  "packetSize": 128,
  "storageFormat": "esriMapCacheStorageModeCompactV2"
 },
 "tileImageInfo": {
  "format": "PNG",
  "compressionQuality": 0,
  "bandCount": 1,
  "lercError": 0
 },
 "tileInfo": {
  "spatialReference": {
   "wkid": 102100,
   "latestWkid": 3857
  },
  "origin": {
   "x": -2.0037508342787E7,
   "y": 2.0037508342787E7
  },
  "rows": 256,
  "cols": 256,
  "dpi": 96,
  "lods": [
   {
    "level": 0,
    "resolution": 156543.033928,
    "scale": 5.91657527591555E8
   },
   {
    "level": 1,
    "resolution": 78271.5169639999,
    "scale": 2.95828763795777E8
   },
   {
    "level": 2,
    "resolution": 39135.7584820001,
    "scale": 1.47914381897889E8
   },
   {
    "level": 3,
    "resolution": 19567.8792409999,
    "scale": 7.3957190948944E7
   },
   {
    "level": 4,
    "resolution": 9783.93962049996,
    "scale": 3.6978595474472E7
   },
   {
    "level": 5,
    "resolution": 4891.96981024998,
    "scale": 1.8489297737236E7
   },
   {
    "level": 6,
    "resolution": 2445.98490512499,
    "scale": 9244648.868618
   },
   {
    "level": 7,
    "resolution": 1222.99245256249,
    "scale": 4622324.434309
   },
   {
    "level": 8,
    "resolution": 611.49622628138,
    "scale": 2311162.217155
   },
   {
    "level": 9,
    "resolution": 305.748113140558,
    "scale": 1155581.108577
   },
   {
    "level": 10,
    "resolution": 152.874056570411,
    "scale": 577790.554289
   },
   {
    "level": 11,
    "resolution": 76.4370282850732,
    "scale": 288895.277144
   },
   {
    "level": 12,
    "resolution": 38.2185141425366,
    "scale": 144447.638572
   },
   {
    "level": 13,
    "resolution": 19.1092570712683,
    "scale": 72223.819286
   },
   {
    "level": 14,
    "resolution": 9.55462853563415,
    "scale": 36111.909643
   },
   {
    "level": 15,
    "resolution": 4.77731426794937,
    "scale": 18055.954822
   },
   {
    "level": 16,
    "resolution": 2.38865713397468,
    "scale": 9027.977411
   },
   {
    "level": 17,
    "resolution": 1.19432856685505,
    "scale": 4513.988705
   },
   {
    "level": 18,
    "resolution": 0.597164283559817,
    "scale": 2256.994353
   },
   {
    "level": 19,
    "resolution": 0.298582141647617,
    "scale": 1128.497176
   },
   {
    "level": 20,
    "resolution": 0.14929107082380833,
    "scale": 564.248588
   },
   {
    "level": 21,
    "resolution": 0.07464553541190416,
    "scale": 282.124294
   },
   {
    "level": 22,
    "resolution": 0.03732276770595208,
    "scale": 141.062147
   },
   {
    "level": 23,
    "resolution": 0.01866138385297604,
    "scale": 70.5310735
   }
  ],
  "format": "PNG",
  "compressionQuality": 0,
  "bandCount": 1,
  "lercError": 0,
  "storageFormat": "esriMapCacheStorageModeCompactV2",
  "packetSize": 128
 },
 "name": "Layers",
 "serviceDescription": "",
 "spatialReference": {
  "wkid": 102100,
  "latestWkid": 3857,
  "xyTolerance": 0.001,
  "zTolerance": 0.001,
  "mTolerance": 0.001,
  "falseX": -20037700,
  "falseY": -30241100,
  "xyUnits": 10000,
  "falseZ": -100000,
  "zUnits": 10000,
  "falseM": -100000,
  "mUnits": 10000
 },
 "units": "esriMeters",
 "minLOD": 8,
 "maxLOD": 15,
 "resampling": true,
 "layers": [
  {
   "id": 0,
   "name": "Street2m",
   "parentLayerId": -1,
   "defaultVisibility": true,
   "subLayerIds": [
    1
   ],
   "minScale": 3000000,
   "maxScale": 1500001,
   "type": "Group Layer",
   "supportsDynamicLegends": false,
   "layerId": 0,
   "layerName": "Street2m",
   "serviceItemId": "693e3b1bf7c1447c99c1b1c1e8a47bf0"
  },
  {
   "id": 1,
   "name": "relief100_clip.jp2",
   "parentLayerId": 0,
   "defaultVisibility": true,
   "subLayerIds": null,
   "minScale": 0,
   "maxScale": 0,
   "type": "Raster Layer",
   "supportsDynamicLegends": true,
   "legend": [
    {
     "label": "High : 254 - Low : 0",
     "imageData": "iVBORw0KGgoAAAANSUhEUgAAABQAAAA8CAYAAABmdppWAAAACXBIWXMAAA7EAAAOxAGVKw4bAAAAXElEQVRYhe3UwQkAMQwDwTy2/4YlcleE/AhYW4CJJ2Duvd8ZDNuT8w6Sztsv9PMDtc9Q+1Z2DdOoYRw1jKPnK46FhppeWfsM/fynuCunUcM4ahhHDePoxY5jn+EPhDiy86pHgCsAAAAASUVORK5CYII=",
     "contentType": "image/png",
     "groupId": "0",
     "height": 60,
     "width": 20,
     "layerId": 1,
     "layerName": "relief100_clip.jp2"
    }
   ],
   "layerId": 1,
   "layerName": "relief100_clip.jp2",
   "serviceItemId": "693e3b1bf7c1447c99c1b1c1e8a47bf0"
  },
  {
   "id": 2,
   "name": "Street1m",
   "parentLayerId": -1,
   "defaultVisibility": true,
   "subLayerIds": [
    3
   ],
   "minScale": 1500000,
   "maxScale": 800001,
   "type": "Group Layer",
   "supportsDynamicLegends": false,
   "layerId": 2,
   "layerName": "Street1m",
   "serviceItemId": "693e3b1bf7c1447c99c1b1c1e8a47bf0"
  },
  {
   "id": 3,
   "name": "relief100_clip.jp2",
   "parentLayerId": 2,
   "defaultVisibility": true,
   "subLayerIds": null,
   "minScale": 0,
   "maxScale": 0,
   "type": "Raster Layer",
   "supportsDynamicLegends": true,
   "legend": [
    {
     "label": "High : 254 - Low : 0",
     "imageData": "iVBORw0KGgoAAAANSUhEUgAAABQAAAA8CAYAAABmdppWAAAACXBIWXMAAA7EAAAOxAGVKw4bAAAAXElEQVRYhe3UwQkAMQwDwTy2/4YlcleE/AhYW4CJJ2Duvd8ZDNuT8w6Sztsv9PMDtc9Q+1Z2DdOoYRw1jKPnK46FhppeWfsM/fynuCunUcM4ahhHDePoxY5jn+EPhDiy86pHgCsAAAAASUVORK5CYII=",
     "contentType": "image/png",
     "groupId": "0",
     "height": 60,
     "width": 20,
     "layerId": 3,
     "layerName": "relief100_clip.jp2"
    }
   ],
   "layerId": 3,
   "layerName": "relief100_clip.jp2",
   "serviceItemId": "693e3b1bf7c1447c99c1b1c1e8a47bf0"
  },
  {
   "id": 4,
   "name": "Street570k",
   "parentLayerId": -1,
   "defaultVisibility": true,
   "subLayerIds": [
    5
   ],
   "minScale": 800000,
   "maxScale": 300001,
   "type": "Group Layer",
   "supportsDynamicLegends": false,
   "layerId": 4,
   "layerName": "Street570k",
   "serviceItemId": "693e3b1bf7c1447c99c1b1c1e8a47bf0"
  },
  {
   "id": 5,
   "name": "relief_20_Clip.jp2",
   "parentLayerId": 4,
   "defaultVisibility": true,
   "subLayerIds": null,
   "minScale": 0,
   "maxScale": 0,
   "type": "Raster Layer",
   "supportsDynamicLegends": true,
   "legend": [
    {
     "label": "High : 254 - Low : 0",
     "imageData": "iVBORw0KGgoAAAANSUhEUgAAABQAAAA8CAYAAABmdppWAAAACXBIWXMAAA7EAAAOxAGVKw4bAAAAXElEQVRYhe3UwQkAMQwDwTy2/4YlcleE/AhYW4CJJ2Duvd8ZDNuT8w6Sztsv9PMDtc9Q+1Z2DdOoYRw1jKPnK46FhppeWfsM/fynuCunUcM4ahhHDePoxY5jn+EPhDiy86pHgCsAAAAASUVORK5CYII=",
     "contentType": "image/png",
     "groupId": "0",
     "height": 60,
     "width": 20,
     "layerId": 5,
     "layerName": "relief_20_Clip.jp2"
    }
   ],
   "layerId": 5,
   "layerName": "relief_20_Clip.jp2",
   "serviceItemId": "693e3b1bf7c1447c99c1b1c1e8a47bf0"
  },
  {
   "id": 6,
   "name": "Street288k",
   "parentLayerId": -1,
   "defaultVisibility": true,
   "subLayerIds": [
    7
   ],
   "minScale": 300000,
   "maxScale": 180001,
   "type": "Group Layer",
   "supportsDynamicLegends": false,
   "layerId": 6,
   "layerName": "Street288k",
   "serviceItemId": "693e3b1bf7c1447c99c1b1c1e8a47bf0"
  },
  {
   "id": 7,
   "name": "relief_20_Clip.jp2",
   "parentLayerId": 6,
   "defaultVisibility": true,
   "subLayerIds": null,
   "minScale": 0,
   "maxScale": 0,
   "type": "Raster Layer",
   "supportsDynamicLegends": true,
   "legend": [
    {
     "label": "High : 254 - Low : 0",
     "imageData": "iVBORw0KGgoAAAANSUhEUgAAABQAAAA8CAYAAABmdppWAAAACXBIWXMAAA7EAAAOxAGVKw4bAAAAXElEQVRYhe3UwQkAMQwDwTy2/4YlcleE/AhYW4CJJ2Duvd8ZDNuT8w6Sztsv9PMDtc9Q+1Z2DdOoYRw1jKPnK46FhppeWfsM/fynuCunUcM4ahhHDePoxY5jn+EPhDiy86pHgCsAAAAASUVORK5CYII=",
     "contentType": "image/png",
     "groupId": "0",
     "height": 60,
     "width": 20,
     "layerId": 7,
     "layerName": "relief_20_Clip.jp2"
    }
   ],
   "layerId": 7,
   "layerName": "relief_20_Clip.jp2",
   "serviceItemId": "693e3b1bf7c1447c99c1b1c1e8a47bf0"
  },
  {
   "id": 8,
   "name": "Street144k",
   "parentLayerId": -1,
   "defaultVisibility": true,
   "subLayerIds": [
    9
   ],
   "minScale": 180000,
   "maxScale": 100001,
   "type": "Group Layer",
   "supportsDynamicLegends": false,
   "layerId": 8,
   "layerName": "Street144k",
   "serviceItemId": "693e3b1bf7c1447c99c1b1c1e8a47bf0"
  },
  {
   "id": 9,
   "name": "relief_20_Clip.jp2",
   "parentLayerId": 8,
   "defaultVisibility": true,
   "subLayerIds": null,
   "minScale": 0,
   "maxScale": 0,
   "type": "Raster Layer",
   "supportsDynamicLegends": true,
   "legend": [
    {
     "label": "High : 254 - Low : 0",
     "imageData": "iVBORw0KGgoAAAANSUhEUgAAABQAAAA8CAYAAABmdppWAAAACXBIWXMAAA7EAAAOxAGVKw4bAAAAXElEQVRYhe3UwQkAMQwDwTy2/4YlcleE/AhYW4CJJ2Duvd8ZDNuT8w6Sztsv9PMDtc9Q+1Z2DdOoYRw1jKPnK46FhppeWfsM/fynuCunUcM4ahhHDePoxY5jn+EPhDiy86pHgCsAAAAASUVORK5CYII=",
     "contentType": "image/png",
     "groupId": "0",
     "height": 60,
     "width": 20,
     "layerId": 9,
     "layerName": "relief_20_Clip.jp2"
    }
   ],
   "layerId": 9,
   "layerName": "relief_20_Clip.jp2",
   "serviceItemId": "693e3b1bf7c1447c99c1b1c1e8a47bf0"
  },
  {
   "id": 10,
   "name": "Street72k",
   "parentLayerId": -1,
   "defaultVisibility": true,
   "subLayerIds": [
    11
   ],
   "minScale": 100000,
   "maxScale": 50001,
   "type": "Group Layer",
   "supportsDynamicLegends": false,
   "layerId": 10,
   "layerName": "Street72k",
   "serviceItemId": "693e3b1bf7c1447c99c1b1c1e8a47bf0"
  },
  {
   "id": 11,
   "name": "relief_20_Clip.jp2",
   "parentLayerId": 10,
   "defaultVisibility": true,
   "subLayerIds": null,
   "minScale": 0,
   "maxScale": 0,
   "type": "Raster Layer",
   "supportsDynamicLegends": true,
   "legend": [
    {
     "label": "High : 254 - Low : 0",
     "imageData": "iVBORw0KGgoAAAANSUhEUgAAABQAAAA8CAYAAABmdppWAAAACXBIWXMAAA7EAAAOxAGVKw4bAAAAXElEQVRYhe3UwQkAMQwDwTy2/4YlcleE/AhYW4CJJ2Duvd8ZDNuT8w6Sztsv9PMDtc9Q+1Z2DdOoYRw1jKPnK46FhppeWfsM/fynuCunUcM4ahhHDePoxY5jn+EPhDiy86pHgCsAAAAASUVORK5CYII=",
     "contentType": "image/png",
     "groupId": "0",
     "height": 60,
     "width": 20,
     "layerId": 11,
     "layerName": "relief_20_Clip.jp2"
    }
   ],
   "layerId": 11,
   "layerName": "relief_20_Clip.jp2",
   "serviceItemId": "693e3b1bf7c1447c99c1b1c1e8a47bf0"
  },
  {
   "id": 12,
   "name": "Street36k",
   "parentLayerId": -1,
   "defaultVisibility": true,
   "subLayerIds": [
    13
   ],
   "minScale": 50000,
   "maxScale": 25001,
   "type": "Group Layer",
   "supportsDynamicLegends": false,
   "layerId": 12,
   "layerName": "Street36k",
   "serviceItemId": "693e3b1bf7c1447c99c1b1c1e8a47bf0"
  },
  {
   "id": 13,
   "name": "relief_20_Clip.jp2",
   "parentLayerId": 12,
   "defaultVisibility": true,
   "subLayerIds": null,
   "minScale": 0,
   "maxScale": 0,
   "type": "Raster Layer",
   "supportsDynamicLegends": true,
   "legend": [
    {
     "label": "High : 254 - Low : 0",
     "imageData": "iVBORw0KGgoAAAANSUhEUgAAABQAAAA8CAYAAABmdppWAAAACXBIWXMAAA7EAAAOxAGVKw4bAAAAXElEQVRYhe3UwQkAMQwDwTy2/4YlcleE/AhYW4CJJ2Duvd8ZDNuT8w6Sztsv9PMDtc9Q+1Z2DdOoYRw1jKPnK46FhppeWfsM/fynuCunUcM4ahhHDePoxY5jn+EPhDiy86pHgCsAAAAASUVORK5CYII=",
     "contentType": "image/png",
     "groupId": "0",
     "height": 60,
     "width": 20,
     "layerId": 13,
     "layerName": "relief_20_Clip.jp2"
    }
   ],
   "layerId": 13,
   "layerName": "relief_20_Clip.jp2",
   "serviceItemId": "693e3b1bf7c1447c99c1b1c1e8a47bf0"
  },
  {
   "id": 14,
   "name": "Street18k",
   "parentLayerId": -1,
   "defaultVisibility": true,
   "subLayerIds": [
    15
   ],
   "minScale": 25000,
   "maxScale": 15001,
   "type": "Group Layer",
   "supportsDynamicLegends": false,
   "layerId": 14,
   "layerName": "Street18k",
   "serviceItemId": "693e3b1bf7c1447c99c1b1c1e8a47bf0"
  },
  {
   "id": 15,
   "name": "relief_20_Clip.jp2",
   "parentLayerId": 14,
   "defaultVisibility": true,
   "subLayerIds": null,
   "minScale": 0,
   "maxScale": 0,
   "type": "Raster Layer",
   "supportsDynamicLegends": true,
   "legend": [
    {
     "label": "High : 254 - Low : 0",
     "imageData": "iVBORw0KGgoAAAANSUhEUgAAABQAAAA8CAYAAABmdppWAAAACXBIWXMAAA7EAAAOxAGVKw4bAAAAXElEQVRYhe3UwQkAMQwDwTy2/4YlcleE/AhYW4CJJ2Duvd8ZDNuT8w6Sztsv9PMDtc9Q+1Z2DdOoYRw1jKPnK46FhppeWfsM/fynuCunUcM4ahhHDePoxY5jn+EPhDiy86pHgCsAAAAASUVORK5CYII=",
     "contentType": "image/png",
     "groupId": "0",
     "height": 60,
     "width": 20,
     "layerId": 15,
     "layerName": "relief_20_Clip.jp2"
    }
   ],
   "layerId": 15,
   "layerName": "relief_20_Clip.jp2",
   "serviceItemId": "693e3b1bf7c1447c99c1b1c1e8a47bf0"
  }
 ],
 "initialExtent": {
  "xmin": 7589430.978052868,
  "ymin": 840478.8106751917,
  "xmax": 1.084396340167138E7,
  "ymax": 4449930.238699997,
  "spatialReference": {
   "wkid": 102100,
   "latestWkid": 3857
  }
 },
 "fullExtent": {
  "xmin": 7589430.978052868,
  "ymin": 840478.8106751917,
  "xmax": 1.084396340167138E7,
  "ymax": 4449930.238699997,
  "spatialReference": {
   "wkid": 102100,
   "latestWkid": 3857
  }
 },
 "minScale": 2311162.217155,
 "maxScale": 18055.954822,
 "exportTilesAllowed": false,
 "maxExportTilesCount": 0,
 "currentVersion": 10.91,
 "mapName": "Layers",
 "singleFusedMapCache": true,
 "type": "MapServer",
 "supportedExtensions": "",
 "capabilities": "TilesOnly,Tilemap",
 "serviceItemId": "693e3b1bf7c1447c99c1b1c1e8a47bf0"
}
